BEGIN:VCALENDAR
VERSION:2.0
PRODID:-//ChamberMaster//Event Calendar 2.0//EN
METHOD:PUBLISH
X-PUBLISHED-TTL:P3D
REFRESH-INTERVAL:P3D
CALSCALE:GREGORIAN
BEGIN:VEVENT
DTSTART:20180402T140000Z
DTEND:20180402T150000Z
X-MICROSOFT-CDO-ALLDAYEVENT:FALSE
SUMMARY:Yoga for Women with Breast Cancer
DESCRIPTION:Therapeutic yoga\, breath work\, and meditation.\n\nMade possible with the support of\, and taught by\, Kula For Karma\, a nonprofit organization whose mission is to offer yoga to those who have been challenged by difficult circumstances.\n\nFree valet parking.\n\n***Registration and physician clearance required.***\n\nInstructions for obtaining physician clearance provided in order confirmation.\n\nOnline registration closes 24 hours before the event.
X-ALT-DESC;FMTTYPE=text/html:<p style="box-sizing: border-box\; margin: 0px 0px 11px\; font-size: 1.8rem\; line-height: 2.8rem\; color: rgb(61\, 65\, 71)\; font-family: AvenirNextLTPro-Regular\, &quot\;Helvetica Neue&quot\;\, Helvetica\, Arial\, sans-serif\;"><br />\nTherapeutic yoga\, breath work\, and meditation.</p>\n\n<p style="box-sizing: border-box\; margin: 0px 0px 11px\; font-size: 1.8rem\; line-height: 2.8rem\; color: rgb(61\, 65\, 71)\; font-family: AvenirNextLTPro-Regular\, &quot\;Helvetica Neue&quot\;\, Helvetica\, Arial\, sans-serif\;"><em style="box-sizing: border-box\;">Made possible with the support of\, and taught by\, Kula For Karma\, a nonprofit organization whose mission is to offer yoga to those who have been challenged by difficult circumstances.</em></p>\n\n<p style="box-sizing: border-box\; margin: 0px 0px 11px\; font-size: 1.8rem\; line-height: 2.8rem\; color: rgb(61\, 65\, 71)\; font-family: AvenirNextLTPro-Regular\, &quot\;Helvetica Neue&quot\;\, Helvetica\, Arial\, sans-serif\;">Free valet parking.</p>\n\n<p style="box-sizing: border-box\; margin: 0px 0px 11px\; font-size: 1.8rem\; line-height: 2.8rem\; color: rgb(61\, 65\, 71)\; font-family: AvenirNextLTPro-Regular\, &quot\;Helvetica Neue&quot\;\, Helvetica\, Arial\, sans-serif\;"><span style="box-sizing: border-box\; font-family: AvenirNextLTPro-Demi\, sans-serif\;">***Registration and physician clearance required.***</span><br style="box-sizing: border-box\;" />\n<em style="box-sizing: border-box\;">Instructions for obtaining physician clearance provided in order confirmation.</em><br style="box-sizing: border-box\;" />\nOnline registration closes 24 hours before the event.</p>\n
LOCATION:Englewood Hospital and Medical Center 350 Engle Street Englewood\, NJ 07631
UID:e.2515.256
SEQUENCE:3
DTSTAMP:20260422T002855Z
URL:https://business.englewoodnjchamber.com/events/details/yoga-for-women-with-breast-cancer-256
END:VEVENT

END:VCALENDAR
