BEGIN:VCALENDAR
VERSION:2.0
PRODID:-//ChamberMaster//Event Calendar 2.0//EN
METHOD:PUBLISH
X-PUBLISHED-TTL:P3D
REFRESH-INTERVAL:P3D
CALSCALE:GREGORIAN
BEGIN:VEVENT
DTSTART:20171216T170000Z
DTEND:20171216T220000Z
X-MICROSOFT-CDO-ALLDAYEVENT:FALSE
SUMMARY:Wine & Cheese during Saturday Afternoon Shopping
DESCRIPTION:Wine & Cheese during Saturday Afternoon Shopping\n \n\nBeginning Nov. 18th\, Jewel Spiegel Gallery will be serving light refreshments every Saturday from 12pm - 5pm throughout the holiday season. Bring in your gift list and enjoy a fun\, friendly atmosphere while shopping for frames\, art\, and unique gifts for your friends and family. Our gallery is also home to finely crafted artisan jewelry designed by local and national artists. Find that "something special" for you or someone else this holiday.\n\n\n\nClose the laptop.\n\nPut down the phone.\n\nBe a part of the Holiday Spirit again.
X-ALT-DESC;FMTTYPE=text/html:<div style="text-align:center"><br />\n<span style="font-size:18px"><em><strong>Wine &amp\; Cheese during Saturday Afternoon Shopping</strong></em></span></div>\n&nbsp\;\n\n<div style="text-align:center"><span style="font-size:17px"><span style="font-family:lora\,georgia\,times new roman\,serif">Beginning Nov. 18th\, Jewel Spiegel Gallery will be serving light refreshments every Saturday from 12pm - 5pm throughout the holiday season. Bring in your gift list and enjoy a fun\, friendly atmosphere while shopping for frames\, art\, and unique gifts for your friends and family. Our gallery is also home to finely crafted artisan jewelry designed by local and national artists. Find that &quot\;something special&quot\; for you or someone else this holiday.</span></span></div>\n\n<div style="text-align:center"><br />\n<span style="font-size:20px"><span style="color:#000000"><span style="font-family:lora\,georgia\,times new roman\,serif">Close the laptop.<br />\nPut down the phone.</span></span></span><br />\n<span style="font-size:20px"><span style="color:#cc0000"><span style="font-family:lora\,georgia\,times new roman\,serif"><strong>Be a part of the Holiday Spirit again.</strong></span></span></span></div>\n
LOCATION:Jewel Spiegel Gallery 30 North Dean Street Englewood\, NJ 07631
UID:e.2515.220
SEQUENCE:3
DTSTAMP:20260422T074543Z
URL:https://business.englewoodnjchamber.com/events/details/wine-cheese-during-saturday-afternoon-shopping-12-16-2017-220
END:VEVENT

END:VCALENDAR
