BEGIN:VCALENDAR
VERSION:2.0
PRODID:-//ChamberMaster//Event Calendar 2.0//EN
METHOD:PUBLISH
X-PUBLISHED-TTL:P3D
REFRESH-INTERVAL:P3D
CALSCALE:GREGORIAN
BEGIN:VEVENT
DTSTART:20180419T220000Z
DTEND:20180419T230000Z
X-MICROSOFT-CDO-ALLDAYEVENT:FALSE
SUMMARY:Why Diets Don't Always Work (4-Session Series)
DESCRIPTION:Throughout this four-week program\, learn to develop a new relationship with food\, identify overeating trigger moments\, moderate your food intake\, and most important\, make lifestyle changes with guidance and support from a holistic nutritionist.\n\nInstructor\n\nNina Spiegel\, Holistic Nutritionist\nThis is a 4-session program requiring participation in the full series.\n\nAll sessions run from 6:00 p.m. until 7:00 p.m.\n\n\n\nFull 2018 Series Schedule:\n\n\n	Thursday\, April 19\n	Thursday\, April 26\n	Thursday\, May 3\n	Thursday\, May 10\n\nFee: $100 for 4-session series.\n\nFree valet parking.\n\n***Preregistration and prepayment required.***\n\nREGISTER HERE\n\n\n\nOnline registration closes 24 hours before the first session.\n\nIf registration has closed\, or to reserve a spot and pay at the Center in person up until 72 hours before the event\, please email or call us directly to register.\n\ngrafcenter@ehmchealth.org\n\n201-608-2377
X-ALT-DESC;FMTTYPE=text/html:<br>\nThroughout this four-week program\, learn to develop a new relationship with food\, identify overeating trigger&nbsp\;moments\, moderate your food intake\, and most important\, make lifestyle&nbsp\;changes with guidance and support from a holistic nutritionist.<br>\n<span style="box-sizing:border-box\;"><span style="font-family:avenirnextltpro-demi\,sans-serif\;">Instructor</span></span><br style="box-sizing:border-box\;">\n<span style="box-sizing:border-box\;"><span style="font-family:avenirnextltpro-demi\,sans-serif\;">Nina Spiegel\, Holistic Nutritionist</span></span>\n<hr style="box-sizing:content-box\;margin-top:12px\;height:0px\;margin-bottom:22px\;color:rgb(61\, 65\, 71)\;font-family:AvenirNextLTPro-Regular\, Helvetica Neue\, Helvetica\, Arial\, sans-serif\;font-size:16px\;">This is a 4-session program requiring participation in the full series.<br style="box-sizing:border-box\;">\n<em style="box-sizing:border-box\;">All sessions run from 6:00 p.m. until 7:00 p.m.</em><br style="box-sizing:border-box\;">\n<br style="box-sizing:border-box\;">\n<span style="box-sizing:border-box\;"><span style="font-family:avenirnextltpro-demi\,sans-serif\;">Full 2018 Series Schedule:</span></span>\n\n<ul>\n	<li style="box-sizing:border-box\;">Thursday\, April 19</li>\n	<li style="box-sizing:border-box\;">Thursday\, April 26</li>\n	<li style="box-sizing:border-box\;">Thursday\, May 3</li>\n	<li style="box-sizing:border-box\;">Thursday\, May 10</li>\n</ul>\nFee: $100 for 4-session series.<br style="box-sizing:border-box\;">\nFree valet parking.<br>\n<span style="box-sizing:border-box\;"><span style="font-family:avenirnextltpro-demi\,sans-serif\;">***Preregistration and prepayment required.***</span></span><br style="box-sizing:border-box\;">\n<span style="box-sizing:border-box\;"><a href="http://bit.ly/2IlOREl">REGISTER HERE</a><br>\n<br>\nOnline registration closes 24 hours before the first session.</span><br style="box-sizing:border-box\;">\n<span style="box-sizing:border-box\;">If registration has closed\, or to&nbsp\;</span><span style="box-sizing:border-box\;">reserve a spot and pay at the Center in person up until 72 hours before the event\,</span><span style="box-sizing:border-box\;">&nbsp\;please email or call us directly to register.</span><br style="box-sizing:border-box\;">\n<span style="box-sizing:border-box\;">grafcenter@ehmchealth.org</span><br style="box-sizing:border-box\;">\n<span style="box-sizing:border-box\;">201-608-2377</span><br>\n&nbsp\;
LOCATION:Englewood Hospital and Medical Center 350 Engle Street Englewood\, NJ 07631
UID:e.2515.285
SEQUENCE:3
DTSTAMP:20260422T002251Z
URL:https://business.englewoodnjchamber.com/events/details/why-diets-don-t-always-work-4-session-series-285
END:VEVENT

END:VCALENDAR
