BEGIN:VCALENDAR
VERSION:2.0
PRODID:-//ChamberMaster//Event Calendar 2.0//EN
METHOD:PUBLISH
X-PUBLISHED-TTL:P3D
REFRESH-INTERVAL:P3D
CALSCALE:GREGORIAN
BEGIN:VEVENT
DTSTART:20171111T150000Z
DTEND:20171111T170000Z
X-MICROSOFT-CDO-ALLDAYEVENT:FALSE
SUMMARY:Veteran's Day Ceremony
DESCRIPTION:Englewood Veteran's Day Ceremony
X-ALT-DESC;FMTTYPE=text/html:Englewood Veteran&#39\;s Day Ceremony
LOCATION:The Monument at Palisade Avenue & Tenafly Rd
UID:e.2515.89
SEQUENCE:3
DTSTAMP:20260422T074824Z
URL:https://business.englewoodnjchamber.com/events/details/veteran-s-day-ceremony-89
END:VEVENT

END:VCALENDAR
