BEGIN:VCALENDAR
VERSION:2.0
PRODID:-//ChamberMaster//Event Calendar 2.0//EN
METHOD:PUBLISH
X-PUBLISHED-TTL:P3D
REFRESH-INTERVAL:P3D
CALSCALE:GREGORIAN
BEGIN:VEVENT
DTSTART:20180204T230000Z
DTEND:20180205T040000Z
X-MICROSOFT-CDO-ALLDAYEVENT:FALSE
SUMMARY:SUPERBOWL at Giovanni's Bicyle Club
DESCRIPTION:Giovanni's Bicycle Club is you big game headquarters!\n\n\n	There are  eight HDTVs to enjoy the game with dinner\, \n	Aa free buffet at the bar from first quarter through halftime\,  and\n	Catering available for pickup or delivery.\n\n\nDon't forget your party needs! We have a number of special packages available for both pickup and delivery. Call (201) 894-0880 to book your reservation or get your orders in for prompt service on game day!
X-ALT-DESC;FMTTYPE=text/html:<p style="text-align: center\;"><span style="color:#696969\;"><span style="font-size:16px"><span style="font-size:20px\;"><strong>Giovanni&#39\;s Bicycle Club is you big game headquarters!</strong></span></span></span></p>\n\n<ul>\n	<li><span style="color:#696969\;"><span style="font-size:16px">There are&nbsp\; <strong>eight HDTVs to enjoy the game with dinner</strong>\, </span></span></li>\n	<li><span style="color:#696969\;"><span style="font-size:16px">Aa <strong>free buffet at the bar </strong>from first quarter through halftime\, </span></span> <span style="color:#696969\;"><span style="font-size:16px">and</span></span></li>\n	<li><span style="color:#696969\;"><span style="font-size:16px"><strong>Catering available for pickup or delivery</strong>.</span></span></li>\n</ul>\n\n<p><span style="color:#696969\;"><span style="font-size:16px">Don&#39\;t forget your party needs! We have a number of special packages available for both pickup and delivery. Call (201) 894-0880 to book your reservation or get your orders in for prompt service on game day!</span></span></p>\n
LOCATION:487 Sylvan Avenue Englewood Cliffs\, NJ 07632
UID:e.2515.240
SEQUENCE:3
DTSTAMP:20260422T044719Z
URL:https://business.englewoodnjchamber.com/events/details/superbowl-at-giovanni-s-bicyle-club-240
END:VEVENT

END:VCALENDAR
