BEGIN:VCALENDAR
VERSION:2.0
PRODID:-//ChamberMaster//Event Calendar 2.0//EN
METHOD:PUBLISH
X-PUBLISHED-TTL:P3D
REFRESH-INTERVAL:P3D
CALSCALE:GREGORIAN
BEGIN:VEVENT
DTSTART:20171107T183000Z
DTEND:20171107T203000Z
X-MICROSOFT-CDO-ALLDAYEVENT:FALSE
SUMMARY:Senior Services Coffee Klatch
DESCRIPTION:Are you a senior or know someone who is a senior?\n\nDo you have questions about services for seniors or eldercare planning?\n \n\nJoin senior care professionals for an informal chat over coffee and snacks.\n \n\nSenior Services Coffee Klatch\n\n\n\nNovember 7th at 1:30 pm\n\n23 North Dean Street \n\nEnglewood\, NJ 07631\n\n\n\nThis event is free and open to the public.\n\nRSVP 201-871-2003
X-ALT-DESC;FMTTYPE=text/html:<div style="text-align: center\;"><strong><span style="font-size:18px\;"><span style="color:#696969\;">Are you a senior or know someone who is a senior?<br />\nDo you have questions about services for seniors or eldercare planning?</span></span></strong></div>\n&nbsp\;\n\n<div style="text-align: center\;"><strong><span style="font-size:18px\;"><span style="color:#696969\;">Join senior care professionals for an informal chat over coffee and snacks.</span></span></strong></div>\n&nbsp\;\n\n<div style="text-align: center\;"><em><strong><span style="font-size:18px\;"><span style="font-size:22px\;"><span style="color:#B22222\;">Senior Services Coffee Klatch</span></span></span></strong></em></div>\n\n<div style="text-align: center\;"><br />\n<strong><span style="font-size:18px\;"><span style="color:#B22222\;">November 7th at 1:30 pm</span><br />\n<span style="color:#B22222\;">23 North Dean Street&nbsp\;<br />\nEnglewood\, NJ 07631</span><br />\n<br />\n<span style="color:#B22222\;">This event is free and open to the public.<br />\nRSVP 201-871-2003</span></span></strong></div>\n
LOCATION:23 North Dean Street Englewood\, NJ 07631
UID:e.2515.150
SEQUENCE:3
DTSTAMP:20260422T074747Z
URL:https://business.englewoodnjchamber.com/events/details/senior-services-coffee-klatch-150
END:VEVENT

END:VCALENDAR
