BEGIN:VCALENDAR
VERSION:2.0
PRODID:-//ChamberMaster//Event Calendar 2.0//EN
METHOD:PUBLISH
X-PUBLISHED-TTL:P3D
REFRESH-INTERVAL:P3D
CALSCALE:GREGORIAN
BEGIN:VEVENT
DTSTART:20180908T170000Z
DTEND:20180908T200000Z
X-MICROSOFT-CDO-ALLDAYEVENT:FALSE
SUMMARY:Ribbon Cutting & Grand Opening - Hudson River Dental Arts
DESCRIPTION:You are invited to Hudson River Dental Arts' Grand Opening!\n\n\n\nMore than top-of-the-line care is delivered.  An incredible dental experience where you will have fun\, be comfortable\, and feel like a VIP!\n\n\n\nFeel free to bring a friend and make an appointment!
X-ALT-DESC;FMTTYPE=text/html:<div style="text-align: center\;"><br />\n<span style="color:#0000CD\;"><span style="font-size:18px\;"><span style="font-size:22px\;"><strong>You are invited to </strong></span><span style="font-size:22px\;"><strong>Hudson</strong></span><span style="font-size:22px\;"><strong> River Dental Arts&#39\; Grand Opening!</strong></span><br />\n<br />\nMore than top-of-the-line care is delivered.&nbsp\; An incredible dental experience where you will have fun\, be comfortable\, and feel like a VIP!<br />\n<br />\nFeel free to bring a friend and make an appointment!</span></span></div>\n
LOCATION:630 East Palisade Avenue\, Suite 2 Englewood Cliffs\, NJ 07632
UID:e.2515.344
SEQUENCE:3
DTSTAMP:20260421T165453Z
URL:https://business.englewoodnjchamber.com/events/details/ribbon-cutting-grand-opening-hudson-river-dental-arts-344
END:VEVENT

END:VCALENDAR
