BEGIN:VCALENDAR
VERSION:2.0
PRODID:-//ChamberMaster//Event Calendar 2.0//EN
METHOD:PUBLISH
X-PUBLISHED-TTL:P3D
REFRESH-INTERVAL:P3D
CALSCALE:GREGORIAN
BEGIN:VEVENT
DTSTART:20171026T230000Z
DTEND:20171027T000000Z
X-MICROSOFT-CDO-ALLDAYEVENT:FALSE
SUMMARY:"Red\, White & Pasta" Grand Opening & Ribbon Cutting!
DESCRIPTION:Join us for the Grand Opening & Ribbon Cutting of\n\nRed\, White & Pasta!\n\n\n\nThursday\, October 26\, 2017\n\nRibbon Cutting at 7pm\n\n\n\nRed\, White & Pasta is a cozy\, family style BYOB Italian restaurant nestled in the heart of Englewood\, NJ featuring delicious\, authentic dishes\, generous portions and reasonable prices.  It's the perfect spot for a kid friendly family outing\, romantic dinner or business lunch. \n\n\n\nPopular selections include Grandma's Meatballs\, Red & White Chopp Chopp Salad\, Chicken Savoy\, Squid Ink Linguini\, and Lobster Ravioli.\n\n\n\nBe sure to leave room for dessert such as "Mikey Likes It" Ice Cream or Italian Cheesecake.  They deliver and cater any occasion whether at home or the office.
X-ALT-DESC;FMTTYPE=text/html:<div style="text-align: center\;"><span style="font-size:16px\;"><strong><span style="font-size:18px\;">Join us for the&nbsp\;Grand Opening &amp\; Ribbon Cutting of</span><br />\n<em><span style="font-size:24px\;"><span style="color:#FF0000\;">Red\,</span> <span style="color:#A9A9A9\;">White &amp\;</span> <span style="color:#0000FF\;">Pasta!</span></span></em><br />\n<br />\n<span style="font-size:18px\;">Thursday\, October 26\, 2017<br />\nRibbon Cutting at 7pm</span><br />\n<br />\nRed\, White &amp\; Pasta is a cozy\, family style BYOB Italian restaurant nestled in the heart of Englewood\, NJ featuring delicious\, authentic dishes\, generous portions and reasonable prices.&nbsp\; It&#39\;s the perfect spot for a kid friendly family outing\, romantic dinner or business lunch.&nbsp\;<br />\n<br />\nPopular selections include Grandma&#39\;s Meatballs\, Red &amp\; White Chopp Chopp Salad\, Chicken Savoy\, Squid Ink Linguini\, and Lobster Ravioli.<br />\n<br />\nBe sure to leave room for dessert such as &quot\;Mikey Likes It&quot\; Ice Cream or Italian Cheesecake.&nbsp\; They deliver and cater any occasion whether at home or the office.</strong></span></div>\n
LOCATION:21 East Palisade Avenue\, Englewood\, NJ
UID:e.2515.142
SEQUENCE:3
DTSTAMP:20260422T090752Z
URL:https://business.englewoodnjchamber.com/events/details/red-white-pasta-grand-opening-ribbon-cutting-142
END:VEVENT

END:VCALENDAR
