BEGIN:VCALENDAR
VERSION:2.0
PRODID:-//ChamberMaster//Event Calendar 2.0//EN
METHOD:PUBLISH
X-PUBLISHED-TTL:P3D
REFRESH-INTERVAL:P3D
CALSCALE:GREGORIAN
BEGIN:VEVENT
DTSTART:20170928T160000Z
DTEND:20170928T230000Z
X-MICROSOFT-CDO-ALLDAYEVENT:FALSE
SUMMARY:Oritani Golf Classic to Benefit CFA
DESCRIPTION:Join us for the Oritanii Golf Classic to Benefit CFA at the Hackensack Golf Club\, 880 Soldier Hill Rd   Oradell\, NJ   201-261-5500.  This enjoyable and relaxing day golf begins with a BBQ lunch. For more information\, please contact Rosanne Buscemi - rbuscemi@oritani.com\n\nHackensack Golf Club is a private 18-hole golf club that was founded in 1899 and was originally located in Hackensack. The Club relocated its current location on the Oradell/Emerson borders in 1929. The course was designed by noted course architect Charles Henry Banks. Banks was a disciple of golf course architect Charles B. MacDonald\, and was renowned for his use of earthmoving equipment required to fulfill his designs\, particularly the deep traps located around each green. It was from this that he got his now-famous nickname "Steam Shovel." And so with careful overseeing by the Club's Historians and consistent care taken in maintaining the grandeur that Banks envisioned\, golfers will find this course to be endlessly challenging without feeling overly tricky or deceptive.
X-ALT-DESC;FMTTYPE=text/html:<p style="margin: 0px 0px 15px\; padding: 0px\; border: 0px\; font-variant-numeric: inherit\; font-stretch: inherit\; font-size: medium\; line-height: 1.4em\; font-family: &quot\;Pontano Sans&quot\;\, sans-serif\; color: rgb(0\, 0\, 0)\;"><br />\nJoin us for the Oritanii Golf Classic to Benefit CFA at the Hackensack Golf Club\, 880 Soldier Hill Rd &bull\; Oradell\, NJ &bull\; 201-261-5500. &nbsp\;This enjoyable and relaxing day golf&nbsp\;begins with a BBQ lunch. For more information\, please contact Rosanne Buscemi -<a href="mailto:%20%20rbuscemi@oritani.com" style="margin: 0px\; padding: 0px\; border: 0px\; font-style: inherit\; font-variant: inherit\; font-weight: inherit\; font-stretch: inherit\; font-size: inherit\; line-height: inherit\; font-family: inherit\; color: rgb(120\, 162\, 47)\; text-decoration-line: none\;">&nbsp\;rbuscemi@oritani.com</a></p>\n\n<p style="margin: 0px 0px 15px\; padding: 0px\; border: 0px\; font-variant-numeric: inherit\; font-stretch: inherit\; font-size: medium\; line-height: 1.4em\; font-family: &quot\;Pontano Sans&quot\;\, sans-serif\; color: rgb(0\, 0\, 0)\;">Hackensack Golf Club is a private 18-hole golf club that was founded in 1899 and was originally located in Hackensack. The Club relocated its current location on the Oradell/Emerson borders in 1929. The course was designed by noted course architect Charles Henry Banks. Banks was a disciple of golf course architect Charles B. MacDonald\, and was renowned for his use of earthmoving equipment required to fulfill his designs\, particularly the deep traps located around each green. It was from this that he got his now-famous nickname &ldquo\;Steam Shovel.&rdquo\; And so with careful overseeing by the Club&rsquo\;s Historians and consistent care taken in maintaining the grandeur that Banks envisioned\, golfers will find this course to be endlessly challenging without feeling overly tricky or deceptive.</p>\n
LOCATION:Hackensack Golf Club 880 Soldier Hill Rd\, Emerson\, NJ 201-261-5500
UID:e.2515.126
SEQUENCE:3
DTSTAMP:20260422T103927Z
URL:https://business.englewoodnjchamber.com/events/details/oritani-golf-classic-to-benefit-cfa-126
END:VEVENT

END:VCALENDAR
