BEGIN:VCALENDAR
VERSION:2.0
PRODID:-//ChamberMaster//Event Calendar 2.0//EN
METHOD:PUBLISH
X-PUBLISHED-TTL:P3D
REFRESH-INTERVAL:P3D
CALSCALE:GREGORIAN
BEGIN:VEVENT
DTSTART:20180226T233000Z
DTEND:20180227T010000Z
X-MICROSOFT-CDO-ALLDAYEVENT:FALSE
SUMMARY:MOM 101: Infant CPR (demo)\, Car Seat\, and Safe Sleep
DESCRIPTION:REGISTER HERE for FREE\n\nJoin us for this free educational seminar series\, for new and expectant parents\, to help prepare you for your new journey. We'll discuss some of the most important information for new parents\, as well as the New Jersey car seat law. Registrants should be in your second/third trimester.\n\nInstructors:\n\nState Trooper Leilani Feliciano\n\nEMS Training Center\n\nLight refreshments will be served.\n\nOnline registration closes five days before the event.\n\nIf registration has closed\, please call the childbirth education department directly to register.\n\n201-894-3727 -or- 201-894-3136\n\nREGISTER HERE for FREE
X-ALT-DESC;FMTTYPE=text/html:<p helvetica="" style="box-sizing: border-box\; margin: 0px 0px 11px\; font-size: 1.8rem\; line-height: 2.8rem\; color: rgb(61\, 65\, 71)\; text-align: center\;"><a href="https://www.eventbrite.com/register?orderid=ceafa4330bb011e8968a0618b3c3261a&amp\;client_token=ca516bc28ad84218a25703ea67e2f0b5&amp\;eid=42431711391" style="font-size: 28.8px\; text-align: center\;"><strong><span style="box-sizing: border-box\;"><span style="box-sizing: border-box\;">REGISTER HERE for FREE</span></span></strong></a></p>\n\n<p helvetica="" style="box-sizing: border-box\; margin: 0px 0px 11px\; font-size: 1.8rem\; line-height: 2.8rem\; color: rgb(61\, 65\, 71)\; font-family: AvenirNextLTPro-Regular\, "><span style="box-sizing: border-box\;">Join us for this free educational seminar series\, for new and expectant parents\, to help prepare you for your new journey. We&#39\;ll discuss some of the most important information for new parents\, as well as the New Jersey car seat law. Registrants should be in your second/third trimester.</span></p>\n\n<p helvetica="" style="box-sizing: border-box\; margin: 0px 0px 11px\; font-size: 1.8rem\; line-height: 2.8rem\; color: rgb(61\, 65\, 71)\; font-family: AvenirNextLTPro-Regular\, "><span style="box-sizing: border-box\;"><span style="box-sizing: border-box\; font-family: AvenirNextLTPro-Demi\, sans-serif\;"><u>Instructors</u>:</span><br style="box-sizing: border-box\;" />\n<span style="box-sizing: border-box\; font-family: AvenirNextLTPro-Demi\, sans-serif\;">State Trooper Leilani Feliciano</span><br style="box-sizing: border-box\;" />\n<span style="box-sizing: border-box\; font-family: AvenirNextLTPro-Demi\, sans-serif\;">EMS Training Center</span></span></p>\n\n<p helvetica="" style="box-sizing: border-box\; margin: 0px 0px 11px\; font-size: 1.8rem\; line-height: 2.8rem\; color: rgb(61\, 65\, 71)\; font-family: AvenirNextLTPro-Regular\, "><span style="box-sizing: border-box\;">Light refreshments will be served.</span></p>\n\n<p helvetica="" style="box-sizing: border-box\; margin: 0px 0px 11px\; font-size: 1.8rem\; line-height: 2.8rem\; color: rgb(61\, 65\, 71)\; font-family: AvenirNextLTPro-Regular\, "><span style="box-sizing: border-box\;"><span style="box-sizing: border-box\;">Online registration closes five days before the event.</span><br style="box-sizing: border-box\;" />\n<span style="box-sizing: border-box\;">If registration has closed\, please call the childbirth education department directly to register.</span><br style="box-sizing: border-box\;" />\n<span style="box-sizing: border-box\;">201-894-3727 -or- 201-894-3136</span></span></p>\n\n<p helvetica="" style="box-sizing: border-box\; margin: 0px 0px 11px\; font-size: 1.8rem\; line-height: 2.8rem\; color: rgb(61\, 65\, 71)\; text-align: center\;"><span style="font-size:26px\;"><a href="https://www.eventbrite.com/register?orderid=ceafa4330bb011e8968a0618b3c3261a&amp\;client_token=ca516bc28ad84218a25703ea67e2f0b5&amp\;eid=42431711391"><strong><span style="box-sizing: border-box\;"><span style="box-sizing: border-box\;"><span style="font-size:28px\;">REGISTER HERE for FREE</span></span></span></strong></a></span><br />\n&nbsp\;</p>\n
LOCATION:Englewood Hospital and Medical Center 350 Engle Street Englewood\, NJ 07631
UID:e.2515.244
SEQUENCE:3
DTSTAMP:20260422T034033Z
URL:https://business.englewoodnjchamber.com/events/details/mom-101-infant-cpr-demo-car-seat-and-safe-sleep-244
END:VEVENT

END:VCALENDAR
