BEGIN:VCALENDAR
VERSION:2.0
PRODID:-//ChamberMaster//Event Calendar 2.0//EN
METHOD:PUBLISH
X-PUBLISHED-TTL:P3D
REFRESH-INTERVAL:P3D
CALSCALE:GREGORIAN
BEGIN:VEVENT
DTSTART:20180301T233000Z
DTEND:20180302T010000Z
X-MICROSOFT-CDO-ALLDAYEVENT:FALSE
SUMMARY:MOM 101 - Gestational Diabetes Explained at EHMC
DESCRIPTION:Details coming soon
X-ALT-DESC;FMTTYPE=text/html:<div style="text-align: center\;">&nbsp\;</div>\n\n<div style="text-align: center\;"><br />\n<span style="font-size:22px\;"><strong>Details coming soon</strong></span></div>\n
LOCATION:Englewood Hospital and Medical Center 350 Engle Street Englewood\, NJ 07631
UID:e.2515.246
SEQUENCE:3
DTSTAMP:20260422T020503Z
URL:https://business.englewoodnjchamber.com/events/details/mom-101-gestational-diabetes-explained-at-ehmc-246
END:VEVENT

END:VCALENDAR
