BEGIN:VCALENDAR
VERSION:2.0
PRODID:-//ChamberMaster//Event Calendar 2.0//EN
METHOD:PUBLISH
X-PUBLISHED-TTL:P3D
REFRESH-INTERVAL:P3D
CALSCALE:GREGORIAN
BEGIN:VEVENT
DTSTART:20180412T230000Z
DTEND:20180413T003000Z
X-MICROSOFT-CDO-ALLDAYEVENT:FALSE
SUMMARY:MOM 101: Dental Seminar for New and Expectant Parents
DESCRIPTION:Join us for this free educational seminar series\, for new and expectant parents\, to help prepare you for your new journey. We'll discuss your child's oral health\, proper nutrition\, and dental care\, helping ensure your new baby has the best oral health throughout pregnancy and the first few years of life. Registrants should be in your second/third trimester.\n\nInstructors\n\nDr. Minichetti Group\n\nLight refreshments will be served.\n\nOnline registration closes 72 hours before the event.\n\nIf registration has closed\, please call the childbirth education department directly to register.\n\n201-894-3727/3136\n\n\n\nREGISTER HERE
X-ALT-DESC;FMTTYPE=text/html:<p style="box-sizing: border-box\; margin: 0px 0px 11px\; font-size: 1.8rem\; line-height: 2.8rem\; color: rgb(61\, 65\, 71)\; font-family: AvenirNextLTPro-Regular\, &quot\;Helvetica Neue&quot\;\, Helvetica\, Arial\, sans-serif\;">Join us for this free educational seminar series\, for new and expectant parents\, to help prepare you for your new journey. We&#39\;ll discuss your child&#39\;s oral health\, proper nutrition\, and dental care\, helping ensure your new baby has the best oral health throughout pregnancy and the first few years of life. Registrants should be in your second/third trimester.</p>\n\n<p style="box-sizing: border-box\; margin: 0px 0px 11px\; font-size: 1.8rem\; line-height: 2.8rem\; color: rgb(61\, 65\, 71)\; font-family: AvenirNextLTPro-Regular\, &quot\;Helvetica Neue&quot\;\, Helvetica\, Arial\, sans-serif\;"><span style="box-sizing: border-box\; font-family: AvenirNextLTPro-Demi\, sans-serif\;">Instructors</span><br style="box-sizing: border-box\;" />\n<span style="box-sizing: border-box\; font-family: AvenirNextLTPro-Demi\, sans-serif\;">Dr. Minichetti Group</span></p>\n\n<p style="box-sizing: border-box\; margin: 0px 0px 11px\; font-size: 1.8rem\; line-height: 2.8rem\; color: rgb(61\, 65\, 71)\; font-family: AvenirNextLTPro-Regular\, &quot\;Helvetica Neue&quot\;\, Helvetica\, Arial\, sans-serif\;">Light refreshments will be served.</p>\n\n<p style="box-sizing: border-box\; margin: 0px 0px 11px\; font-size: 1.8rem\; line-height: 2.8rem\; color: rgb(61\, 65\, 71)\; font-family: AvenirNextLTPro-Regular\, &quot\;Helvetica Neue&quot\;\, Helvetica\, Arial\, sans-serif\;">Online registration closes 72 hours before the event.<br style="box-sizing: border-box\;" />\nIf registration has closed\, please call the childbirth education department directly to register.<br style="box-sizing: border-box\;" />\n201-894-3727/3136<br />\n<br />\n<a href="http://bit.ly/2GDRhkD">REGISTER HERE</a></p>\n
LOCATION:Englewood Hospital and Medical Center 350 Engle Street Englewood\, NJ 07631
UID:e.2515.284
SEQUENCE:3
DTSTAMP:20260422T020832Z
URL:https://business.englewoodnjchamber.com/events/details/mom-101-dental-seminar-for-new-and-expectant-parents-284
END:VEVENT

END:VCALENDAR
