BEGIN:VCALENDAR
VERSION:2.0
PRODID:-//ChamberMaster//Event Calendar 2.0//EN
METHOD:PUBLISH
X-PUBLISHED-TTL:P3D
REFRESH-INTERVAL:P3D
CALSCALE:GREGORIAN
BEGIN:VEVENT
DTSTART:20180314T220000Z
DTEND:20180315T000000Z
X-MICROSOFT-CDO-ALLDAYEVENT:FALSE
SUMMARY:Mega Networking Event at G.W. Grill!
DESCRIPTION:REGISTER HERE\n\n\n\nJoin Us for Business!\n\nAfter Hours Multi-Chamber Networking Event\n\nHosted by Fairview Chamber of Commerce\n\n\n\nG.W. Grill\n\n2139 Hudson Terrace in Fort Lee\, NJ\n\n\n\nWednesday\, March 14\n\n6pm to 8pm\n\n\n\nFREE Appetizers\n\nHappy Hour Drink Prices\n\nRSVP Before March 9th\n\nMembers $20     Non-Members $25\n\n\n\nSponsored by G.W. Grill\n\n\n\nFor information contact  Carol Rauscher \n\n201-567-2381 |  crauscher@englewoodnjchamber.com
X-ALT-DESC;FMTTYPE=text/html:<div style="text-align: center\;"><br />\n<strong><u><span style="font-size:24px\;"><a href="http://bit.ly/MegNet2018-03BodyReg"><span style="color:#FF0000\;">REGISTER HERE</span></a></span></u><br />\n<br />\n<span style="font-size:20px\;"><span style="color:#800080\;"><span style="font-size:24px\;">Join Us for Business!</span></span><br />\n<span style="color:#696969\;"><em>After Hours Multi-Chamber&nbsp\;Networking Event</em><br />\nHosted by Fairview Chamber of Commerce</span><br />\n<br />\n<span style="color:#8B4513\;"><span style="font-size:26px\;">G.W. Grill</span></span><br />\n<span style="color:#8B4513\;">2139 Hudson Terrace in Fort Lee\, NJ</span><br />\n<br />\n<span style="font-size:24px\;">Wednesday\, March 14</span></span></strong><br />\n<span style="font-size:24px\;"><strong>6pm</strong></span><span style="font-size:24px\;"><strong>&nbsp\;to </strong></span><span style="font-size:24px\;"><strong>8pm</strong></span><br />\n<br />\n<strong><span style="font-size:20px\;">FREE Appetizers<br />\nHappy Hour Drink Prices<br />\n<span style="color:#FF0000\;">RSVP Before March 9th<br />\nMembers $20&nbsp\;&nbsp\;&nbsp\;&nbsp\;&#8203\;Non-Members $25</span><br />\n<br />\nSponsored by G.W. Grill<br />\n<br />\nFor information contact&nbsp\; Carol Rauscher&nbsp\;<br />\n201-567-2381 |&nbsp\; <a href="mailto:crauscjer@englewoodnjchamber.com?subject=Mega%20Networking%20Event%20Question">crauscher@englewoodnjchamber.com</a></span></strong><br />\n<br />\n<br />\n&nbsp\;</div>\n
LOCATION:G.W. Grill 2139 Hudson Terrace Fort Lee\, NJ 07024
UID:e.2515.253
SEQUENCE:3
DTSTAMP:20260422T015856Z
URL:https://business.englewoodnjchamber.com/events/details/mega-networking-event-at-g-w-grill-253
END:VEVENT

END:VCALENDAR
