BEGIN:VCALENDAR
VERSION:2.0
PRODID:-//ChamberMaster//Event Calendar 2.0//EN
METHOD:PUBLISH
X-PUBLISHED-TTL:P3D
REFRESH-INTERVAL:P3D
CALSCALE:GREGORIAN
BEGIN:VEVENT
DTSTART:20171021T150000Z
DTEND:20171021T220000Z
X-MICROSOFT-CDO-ALLDAYEVENT:FALSE
SUMMARY:Liberty Travel Grand Opening & Ribbon Cutting
DESCRIPTION:Join us for the\n\nGrand Opening & Ribbon Cutting of \n\nLiberty Travel\n\n\n\nSaturday\, October 21\n\nRibbon Cutting at Noon\n\nGrand Opening 11 am to 6 pm\n\n\n\nYou are invited to Liberty Travel's opening celebration!\n\n\n\nWith more than 65 years of travel experience\, Liberty Travel has the expert knowledge to curate one-of-a-kind vacations for every type of traveler.  Hand-selected hotels\, unique experiences\, and exclusive services to destinations around the globe with 24/7 support.\n\n\n\nAARP members receive reduced deposits and save up to $100 for two travelers on select Liberty Travel vacations.\n\n\n\nYou are invited to the opening celebration!  There will be food\, music\, vacation giveaways\, discounts on future vacations and some all-around fun!\n\n\n\nVacation Giveaways include:\n\n\n	Raffle for 3-night stay at Dreams Puerto Aventuras Riviera Maya & Spa\, Mexico\n	Raffle for an exclusive 3-night stay at the brand new Panama Jack Resort in Riviera Maya\, Mexico\n	Princess Cruise Line gift basket raffle\n	Norwegian Cruise Line booking specials
X-ALT-DESC;FMTTYPE=text/html:<div style="text-align: center\;"><strong><span style="font-size:16px\;"><span style="font-size:20px\;">Join us for the<br />\n<span style="color:#FF0000\;">Grand Opening &amp\; Ribbon Cutting of&nbsp\;</span><br />\n<em><span style="font-size:24px\;"><span style="color:#FF0000\;">Liberty Travel</span></span></em></span><br />\n<br />\nSaturday\, October 21<br />\nRibbon Cutting at Noon<br />\nGrand Opening 11 am to 6 pm<br />\n<br />\nYou are invited to <span style="color:#FF0000\;">Liberty Travel&#39\;s</span> opening celebration!</span><br />\n<br />\nWith more than 65 years of travel experience\, <span style="color:#FF0000\;">Liberty Travel</span> has the expert knowledge to curate one-of-a-kind vacations for every type of traveler.&nbsp\; Hand-selected hotels\, unique experiences\, and exclusive services to destinations around the globe with 24/7 support.<br />\n<br />\nAARP members receive reduced deposits and save up to $100 for two travelers on select <span style="color:#FF0000\;">Liberty Travel</span> vacations.<br />\n<br />\nYou are invited to the opening celebration!&nbsp\; There will be food\, music\, vacation giveaways\, discounts on future vacations and some all-around fun!<br />\n<br />\n<span style="color:#FF0000\;"><span style="font-size:18px\;">Vacation Giveaways include:</span></span></strong></div>\n\n<ul>\n	<li><span style="color:#008000\;"><strong>Raffle for 3-night stay at Dreams Puerto Aventuras Riviera Maya &amp\; Spa\, Mexico</strong></span></li>\n	<li><span style="color:#0000FF\;"><strong>Raffle for an exclusive 3-night stay at the brand new Panama Jack Resort in Riviera Maya\, Mexico</strong></span></li>\n	<li><span style="color:#800080\;"><strong>Princess Cruise Line gift basket raffle</strong></span></li>\n	<li><span style="color:#DAA520\;"><strong>Norwegian Cruise Line booking specials</strong></span></li>\n</ul>\n
LOCATION:24 E Palisade Ave.\, Englewood\, NJ 07631
UID:e.2515.141
SEQUENCE:3
DTSTAMP:20260422T092101Z
URL:https://business.englewoodnjchamber.com/events/details/liberty-travel-grand-opening-ribbon-cutting-141
END:VEVENT

END:VCALENDAR
