BEGIN:VCALENDAR
VERSION:2.0
PRODID:-//ChamberMaster//Event Calendar 2.0//EN
METHOD:PUBLISH
X-PUBLISHED-TTL:P3D
REFRESH-INTERVAL:P3D
CALSCALE:GREGORIAN
BEGIN:VEVENT
DTSTART:20180616T160000Z
DTEND:20180617T010000Z
X-MICROSOFT-CDO-ALLDAYEVENT:FALSE
SUMMARY:Juneteenth Festival & Carnival at Depot Square
DESCRIPTION:
X-ALT-DESC;FMTTYPE=text/html:
LOCATION:
UID:e.2515.317
SEQUENCE:3
DTSTAMP:20260421T212138Z
URL:https://business.englewoodnjchamber.com/events/details/juneteenth-festival-carnival-at-depot-square-317
END:VEVENT

END:VCALENDAR
