BEGIN:VCALENDAR
VERSION:2.0
PRODID:-//ChamberMaster//Event Calendar 2.0//EN
METHOD:PUBLISH
X-PUBLISHED-TTL:P3D
REFRESH-INTERVAL:P3D
CALSCALE:GREGORIAN
BEGIN:VEVENT
DTSTART:20171110T000000Z
DTEND:20171110T020000Z
X-MICROSOFT-CDO-ALLDAYEVENT:FALSE
SUMMARY:Join us for a Wellness Night at Aetrex Englewood
DESCRIPTION:Join us for Wellness Night!\n\nThurs\, Nov. 9 at 7:00 pm\n\nAetrex Englewood Store\n\n\n\nMeet Wellness & Prosperity Coach Cathy Ricci and find out about different ways to enhance your lifestyle!\n\n\n\nShe'll discuss:\n\n- Street Relief\n\n- Energy and performance\n\n- Healthy aging \n\nAnd more!\n\n\n\nSPACE IS LIMITED\n\nREGISTER HERE
X-ALT-DESC;FMTTYPE=text/html:<div style="text-align: center\;"><strong><span style="color:#DAA520\;"><span style="font-size:26px\;">Join us for <em>Wellness Night!</em></span></span><br />\n<span style="color:#696969\;"><span style="font-size:18px\;">Thurs\, Nov. 9 at 7:00 pm<br />\nAetrex Englewood Store<br />\n<br />\nMeet Wellness &amp\; Prosperity Coach Cathy Ricci and find out about different ways to enhance your lifestyle!</span></span><br />\n<br />\n<span style="color:#DAA520\;"><span style="font-size:18px\;">She&#39\;ll discuss:<br />\n- Street Relief<br />\n- Energy and performance<br />\n- Healthy aging&nbsp\;<br />\nAnd more!</span></span><br />\n<br />\n<a href="https://pub.s1.exacttarget.com/uil3lhn0d2q?j=82516&amp\;sfmc_sub=3710456&amp\;l=75_HTML&amp\;u=2019637&amp\;mid=10958500&amp\;jb=0" target="_blank"><span style="color:#B22222\;"><span style="font-size:26px\;">SPACE IS LIMITED</span></span></a></strong></div>\n\n<div style="text-align: center\;"><a href="https://pub.s1.exacttarget.com/uil3lhn0d2q?j=82516&amp\;sfmc_sub=3710456&amp\;l=75_HTML&amp\;u=2019637&amp\;mid=10958500&amp\;jb=0" target="_blank"><span style="color:#B22222\;"><span style="font-size:26px\;"><strong>REGISTER HERE</strong></span></span></a></div>\n
LOCATION:Aetrex Englewood 2 South Dean Street
UID:e.2515.146
SEQUENCE:3
DTSTAMP:20260422T075033Z
URL:https://business.englewoodnjchamber.com/events/details/join-us-for-a-wellness-night-at-aetrex-englewood-146
END:VEVENT

END:VCALENDAR
