BEGIN:VCALENDAR
VERSION:2.0
PRODID:-//ChamberMaster//Event Calendar 2.0//EN
METHOD:PUBLISH
X-PUBLISHED-TTL:P3D
REFRESH-INTERVAL:P3D
CALSCALE:GREGORIAN
BEGIN:VEVENT
DTSTART;VALUE=DATE:20171001
DTEND;VALUE=DATE:20171002
TRANSP:TRANSPARENT
X-MICROSOFT-CDO-ALLDAYEVENT:TRUE
SUMMARY:Ice Arena Opening Day at Mackay Park
DESCRIPTION:John T. Wright Arena at Mackay Park\n\nIce Rink Season Opening Day
X-ALT-DESC;FMTTYPE=text/html:<span style="font-size:20px\;"><strong>John T. Wright Arena at Mackay Park<br />\nIce Rink Season Opening Day&nbsp\;</strong></span>
LOCATION:130 W Englewood Ave\, Englewood\, NJ 07631
UID:e.2515.85
SEQUENCE:3
DTSTAMP:20260422T090746Z
URL:https://business.englewoodnjchamber.com/events/details/ice-arena-opening-day-at-mackay-park-85
END:VEVENT

END:VCALENDAR
