BEGIN:VCALENDAR
VERSION:2.0
PRODID:-//ChamberMaster//Event Calendar 2.0//EN
METHOD:PUBLISH
X-PUBLISHED-TTL:P3D
REFRESH-INTERVAL:P3D
CALSCALE:GREGORIAN
BEGIN:VEVENT
DTSTART:20180223T000000Z
DTEND:20180223T013000Z
X-MICROSOFT-CDO-ALLDAYEVENT:FALSE
SUMMARY:Help Reverse an Opioid Overdose - Free Narcan Training (Englewood Municipal Alliance)
DESCRIPTION:Help Reverse an Opioid Overdose - Free Narcan Training \n\nEligible attendees will receive one free dose of Nasal Narcan \n\nTraining includes:\n\n\n	Overdose prevention strategies\n	Signs and Symptoms of Overdose\n	How to Administer Naloxone\n	Rescue Breathing\n	Overdose Prevention Legal Rights\n	Support Information and Resources\n\n\nEligible attendees will receive one free dose of Nasal Narcan. \n\n\n\nRegister early!  Availability is limited to the first 25 people who register.   Please contact Phyllis Minicuci to register at pminicuci@mcpik.org or 973-625-1998 x 18\n\nSponsored by the Englewood Municipal Alliance. \n\nEmail Us: COEMunicAlliance@gmail.com    201.568.3450  Ext.6502 \n\nThe Opioid Overdose Prevention Project is made possible by funding received from the New Jersey Governor's Council on Alcoholism and Drug Abuse\, New Jersey Department of Human Services\, Division of Mental Health and Addiction Services and Morris County Prevention Is Key\, INC.
X-ALT-DESC;FMTTYPE=text/html:<p style="box-sizing: border-box\; outline: none\; margin: 0px 0px 18px\; padding: 0px\; border: 0px\; font-variant-numeric: inherit\; font-variant-east-asian: inherit\; font-stretch: inherit\; line-height: inherit\; font-family: Roboto\, sans-serif\; font-size: 14px\; color: rgb(119\, 119\, 119)\; text-align: center\;"><br />\n<span style="font-size:22px\;"><strong>Help Reverse an Opioid Overdose - Free Narcan&nbsp\;</strong></span><span style="font-size:22px\;"><strong>Training&nbsp\;</strong></span><br />\n<span style="font-size:18px\;">Eligible attendees will receive one free dose of Nasal Narcan</span>&nbsp\;</p>\n\n<p style="box-sizing: border-box\; outline: none\; margin: 0px 0px 18px\; padding: 0px\; border: 0px\; font-variant-numeric: inherit\; font-variant-east-asian: inherit\; font-stretch: inherit\; line-height: inherit\; font-family: Roboto\, sans-serif\; font-size: 14px\; color: rgb(119\, 119\, 119)\;"><strong>Training includes:</strong></p>\n\n<ul style="box-sizing: border-box\; outline: none\; margin: 10px 0px 10px 20px\; padding-right: 0px\; padding-left: 0px\; border: 0px\; font-variant-numeric: inherit\; font-variant-east-asian: inherit\; font-stretch: inherit\; line-height: inherit\; font-family: Roboto\, sans-serif\; font-size: 14px\; list-style-position: initial\; list-style-image: initial\; color: rgb(119\, 119\, 119)\;">\n	<li style="box-sizing: border-box\; outline: none\; margin: 0px\; padding: 0px\; border: 0px\; font-style: inherit\; font-variant: inherit\; font-weight: inherit\; font-stretch: inherit\; line-height: inherit\; font-family: inherit\;">Overdose prevention strategies</li>\n	<li style="box-sizing: border-box\; outline: none\; margin: 0px\; padding: 0px\; border: 0px\; font-style: inherit\; font-variant: inherit\; font-weight: inherit\; font-stretch: inherit\; line-height: inherit\; font-family: inherit\;">Signs and Symptoms of Overdose</li>\n	<li style="box-sizing: border-box\; outline: none\; margin: 0px\; padding: 0px\; border: 0px\; font-style: inherit\; font-variant: inherit\; font-weight: inherit\; font-stretch: inherit\; line-height: inherit\; font-family: inherit\;">How to Administer Naloxone</li>\n	<li style="box-sizing: border-box\; outline: none\; margin: 0px\; padding: 0px\; border: 0px\; font-style: inherit\; font-variant: inherit\; font-weight: inherit\; font-stretch: inherit\; line-height: inherit\; font-family: inherit\;">Rescue Breathing</li>\n	<li style="box-sizing: border-box\; outline: none\; margin: 0px\; padding: 0px\; border: 0px\; font-style: inherit\; font-variant: inherit\; font-weight: inherit\; font-stretch: inherit\; line-height: inherit\; font-family: inherit\;">Overdose Prevention Legal Rights</li>\n	<li style="box-sizing: border-box\; outline: none\; margin: 0px\; padding: 0px\; border: 0px\; font-style: inherit\; font-variant: inherit\; font-weight: inherit\; font-stretch: inherit\; line-height: inherit\; font-family: inherit\;">Support Information and Resources</li>\n</ul>\n\n<p style="box-sizing: border-box\; outline: none\; margin: 0px 0px 18px\; padding: 0px\; border: 0px\; font-variant-numeric: inherit\; font-variant-east-asian: inherit\; font-stretch: inherit\; line-height: inherit\; font-family: Roboto\, sans-serif\; font-size: 14px\; color: rgb(119\, 119\, 119)\;"><strong>Eligible attendees will receive one free dose of Nasal Narcan.&nbsp\;</strong><br />\n<br />\n<span style="box-sizing: border-box\; outline: none\; font-weight: 700\; margin: 0px\; padding: 0px\; border: 0px\; font-style: inherit\; font-variant: inherit\; font-stretch: inherit\; line-height: inherit\; font-family: inherit\;">Register early!&nbsp\; Availability is limited to the first 25 people who register.&nbsp\;&nbsp\; Please contact Phyllis Minicuci to register at&nbsp\;<a href="mailto:pminicuci@mcpik.org" style="box-sizing: border-box\; outline: none\; background-color: transparent\; color: rgb(212\, 17\, 23)\; text-decoration-line: none\; margin: 0px\; padding: 0px\; border: 0px\; font-style: inherit\; font-variant: inherit\; font-weight: inherit\; font-stretch: inherit\; line-height: inherit\; font-family: inherit\; transition: all 0.3s ease 0.1s\;">pminicuci@mcpik.org</a>&nbsp\;or 973-625-1998 x 18</span></p>\n\n<p style="box-sizing: border-box\; outline: none\; margin: 0px 0px 18px\; padding: 0px\; border: 0px\; font-variant-numeric: inherit\; font-variant-east-asian: inherit\; font-stretch: inherit\; line-height: inherit\; font-family: Roboto\, sans-serif\; font-size: 14px\; color: rgb(119\, 119\, 119)\;"><em style="box-sizing: border-box\; outline: none\; margin: 0px\; padding: 0px\; border: 0px\; font-variant: inherit\; font-weight: inherit\; font-stretch: inherit\; line-height: inherit\; font-family: inherit\;">Sponsored by the Englewood Municipal Alliance.&nbsp\;</em><br style="box-sizing: border-box\; outline: none\;" />\nEmail Us:&nbsp\;<a href="mailto:COEMunicAlliance@gmail.com" style="box-sizing: border-box\; outline: none\; background-color: transparent\; color: rgb(212\, 17\, 23)\; text-decoration-line: none\; margin: 0px\; padding: 0px\; border: 0px\; font-style: inherit\; font-variant: inherit\; font-weight: inherit\; font-stretch: inherit\; line-height: inherit\; font-family: inherit\; transition: all 0.3s ease 0.1s\;">COEMunicAlliance@gmail.com</a>&nbsp\;&nbsp\;&nbsp\; 201.568.3450&nbsp\; Ext.6502&nbsp\;</p>\n\n<div>The Opioid Overdose Prevention Project is made possible by funding received from the New Jersey Governor&#39\;s Council on Alcoholism and Drug Abuse\, New Jersey Department of Human Services\, Division of Mental Health and Addiction Services and Morris County Prevention Is Key\, INC.&nbsp\;</div>\n\n<p style="box-sizing: border-box\; outline: none\; margin: 0px 0px 18px\; padding: 0px\; border: 0px\; font-variant-numeric: inherit\; font-variant-east-asian: inherit\; font-stretch: inherit\; line-height: inherit\; font-family: Roboto\, sans-serif\; font-size: 14px\; color: rgb(119\, 119\, 119)\;">&nbsp\;</p>\n\n<p style="box-sizing: border-box\; outline: none\; margin: 0px 0px 18px\; padding: 0px\; border: 0px\; font-variant-numeric: inherit\; font-variant-east-asian: inherit\; font-stretch: inherit\; line-height: inherit\; font-family: Roboto\, sans-serif\; font-size: 14px\; color: rgb(119\, 119\, 119)\;">&nbsp\;</p>\n
LOCATION:Ideal Lodge 17 Bennett Road Englewood\, NJ 07631
UID:e.2515.245
SEQUENCE:3
DTSTAMP:20260422T033910Z
URL:https://business.englewoodnjchamber.com/events/details/help-reverse-an-opioid-overdose-free-narcan-training-englewood-municipal-alliance-245
END:VEVENT

END:VCALENDAR
