BEGIN:VCALENDAR
VERSION:2.0
PRODID:-//ChamberMaster//Event Calendar 2.0//EN
METHOD:PUBLISH
X-PUBLISHED-TTL:P3D
REFRESH-INTERVAL:P3D
CALSCALE:GREGORIAN
BEGIN:VEVENT
DTSTART;VALUE=DATE:20170923
DTEND;VALUE=DATE:20170924
TRANSP:TRANSPARENT
X-MICROSOFT-CDO-ALLDAYEVENT:TRUE
SUMMARY:Get off the Digitals and Get Healthy at Mackay Park!
DESCRIPTION:Get off the Digitals and Get Healthy at Mackay Park!
X-ALT-DESC;FMTTYPE=text/html:<span style="font-family:helvetica\,sans-serif\;"><span style="font-size:10.0pt\;">Get off the Digitals and Get Healthy at Mackay Park!</span></span>
LOCATION:Mackay Park - 130 W Englewood Ave\, Englewood\, NJ 07631
UID:e.2515.86
SEQUENCE:3
DTSTAMP:20260422T104051Z
URL:https://business.englewoodnjchamber.com/events/details/get-off-the-digitals-and-get-healthy-at-mackay-park-86
END:VEVENT

END:VCALENDAR
