BEGIN:VCALENDAR
VERSION:2.0
PRODID:-//ChamberMaster//Event Calendar 2.0//EN
METHOD:PUBLISH
X-PUBLISHED-TTL:P3D
REFRESH-INTERVAL:P3D
CALSCALE:GREGORIAN
BEGIN:VEVENT
DTSTART:20180511T160000Z
DTEND:20180511T220000Z
X-MICROSOFT-CDO-ALLDAYEVENT:FALSE
SUMMARY:Garden Club of Englewood Plant Sale
DESCRIPTION:Come out to the Annual\n\nGarden Club of Englewood Plant Sale!\n\n\n\nFriday\, May 11th at Veterans Park  (formerly Depot Square)\n\non the corner of Van Brunt and Tallman Pl.\n\n\n\nMother's Day Gifts & Assorted Plants \n\nAssistance Provided to Customers\n\n\n\nFree Reserved Metered Parking at \n\nthe South End of Veterans Park\n\nfor Plant Sale Customers!
X-ALT-DESC;FMTTYPE=text/html:<div style="text-align: center\;"><br />\n<span style="color:#696969\;"><span style="font-size:24px\;"><strong>Come out to the Annual</strong></span></span><br />\n<span style="font-size:36px\;"><u><em><span style="color:#FF0000\;"><strong>Garden Club of Englewood Plant Sale!</strong></span></em></u></span><br />\n<br />\n<span style="color:#696969\;"><span style="font-size:24px\;"><strong>Friday\, May 11th at Veterans&nbsp\;Park&nbsp\; (formerly Depot Square)<br />\non the corner of Van Brunt and Tallman Pl.</strong></span></span><br />\n<br />\n<span style="font-size:28px\;"><span style="color:#008000\;"><strong>Mother&#39\;s Day Gifts &amp\; Assorted Plants&nbsp\;<br />\nAssistance Provided to Customers</strong></span></span><br />\n<br />\n<span style="color:#FF0000\;"><span style="font-size:24px\;"><strong><u>Free Reserved Metered Parking at </u></strong></span></span></div>\n\n<div style="text-align: center\;"><span style="color:#696969\;"><span style="font-size:24px\;"><strong>the South End of Veterans Park<br />\nfor Plant Sale Customers!</strong></span></span></div>\n
LOCATION:Veteran's Park (formerly Depot Square) Corner of Van Brunt & Tallman Pl. Englewood\, NJ 07631
UID:e.2515.287
SEQUENCE:3
DTSTAMP:20260422T003104Z
URL:https://business.englewoodnjchamber.com/events/details/garden-club-of-englewood-plant-sale-287
END:VEVENT

END:VCALENDAR
