BEGIN:VCALENDAR
VERSION:2.0
PRODID:-//ChamberMaster//Event Calendar 2.0//EN
METHOD:PUBLISH
X-PUBLISHED-TTL:P3D
REFRESH-INTERVAL:P3D
CALSCALE:GREGORIAN
BEGIN:VEVENT
DTSTART:20180411T233000Z
DTEND:20180412T013000Z
X-MICROSOFT-CDO-ALLDAYEVENT:FALSE
SUMMARY:Friends and Family CPR
DESCRIPTION:This program was developed to instruct parents\, grandparents\, babysitters and nursery school personnel on the prompt care for the choking infant or child along with the CPR resuscitation skills. Additionally\, the course provides instruction on child safety and childproofing the home. Please note\, no certification/card is issued for this course.\n\nThe American Heart Association strongly promotes knowledge and proficiency in all AHA courses and has developed instructional materials for this purpose. Use of these materials in an educational course does not represent course sponsorship by the AHA. Any fees charged for such course\, except for a portion of fees needed for AHA course materials\, do not represent income to the AHA.
X-ALT-DESC;FMTTYPE=text/html:<p style="box-sizing: border-box\; margin: 0px 0px 11px\; font-size: 1.8rem\; line-height: 2.8rem\; color: rgb(61\, 65\, 71)\; font-family: AvenirNextLTPro-Regular\, &quot\;Helvetica Neue&quot\;\, Helvetica\, Arial\, sans-serif\;"><span style="box-sizing: border-box\;">This program was developed to instruct parents\, grandparents\, babysitters and nursery school personnel on the prompt care for the choking infant or child along with the CPR resuscitation skills. Additionally\, the course provides instruction on child safety and childproofing the home. Please note\, no certification/card is issued for this course.</span></p>\n\n<p style="box-sizing: border-box\; margin: 0px 0px 11px\; font-size: 1.8rem\; line-height: 2.8rem\; color: rgb(61\, 65\, 71)\; font-family: AvenirNextLTPro-Regular\, &quot\;Helvetica Neue&quot\;\, Helvetica\, Arial\, sans-serif\;">The American Heart Association strongly promotes knowledge and proficiency in all AHA courses and has developed instructional materials for this purpose. Use of these materials in an educational course does not represent course sponsorship by the AHA. Any fees charged for such course\, except for a portion of fees needed for AHA course materials\, do not represent income to the AHA.</p>\n
LOCATION:EMS Training Center 122 South Van Brunt Street Englewood\, NJ 07631
UID:e.2515.283
SEQUENCE:3
DTSTAMP:20260422T003401Z
URL:https://business.englewoodnjchamber.com/events/details/friends-and-family-cpr-283
END:VEVENT

END:VCALENDAR
