BEGIN:VCALENDAR
VERSION:2.0
PRODID:-//ChamberMaster//Event Calendar 2.0//EN
METHOD:PUBLISH
X-PUBLISHED-TTL:P3D
REFRESH-INTERVAL:P3D
CALSCALE:GREGORIAN
BEGIN:VEVENT
DTSTART;VALUE=DATE:20181122
DTEND;VALUE=DATE:20181230
TRANSP:TRANSPARENT
X-MICROSOFT-CDO-ALLDAYEVENT:TRUE
SUMMARY:FREE METERED PARKING!
DESCRIPTION:FREE METERED PARKING \n\nThroughout Englewood\, NJ\n\nfrom\n\nNovember 22 - December 29
X-ALT-DESC;FMTTYPE=text/html:<div style="text-align: center\;"><span style="font-size:20px\;"><strong><span style="color:#FF0000\;">FREE METERED PARKING</span>&nbsp\;<br />\nThroughout Englewood\, NJ<br />\nfrom<br />\nNovember 22 - December 29</strong></span></div>\n
LOCATION:
UID:e.2515.378
SEQUENCE:3
DTSTAMP:20260421T133615Z
URL:https://business.englewoodnjchamber.com/events/details/free-metered-parking-378
END:VEVENT

END:VCALENDAR
