BEGIN:VCALENDAR
VERSION:2.0
PRODID:-//ChamberMaster//Event Calendar 2.0//EN
METHOD:PUBLISH
X-PUBLISHED-TTL:P3D
REFRESH-INTERVAL:P3D
CALSCALE:GREGORIAN
BEGIN:VEVENT
DTSTART:20171130T133000Z
DTEND:20171130T163000Z
X-MICROSOFT-CDO-ALLDAYEVENT:FALSE
SUMMARY:Free Hand Screening with Dr. Michael Horowitz\, Hand Surgeon from The Center for Musculoskeletal Disorders and Professional Physical Therapy
DESCRIPTION:A season to be Thankful and a time for good health!  Please join Dr. Michael Horowitz\, Hand Surgeon and Mollie Sherman\, Occupational Therapist for a free hand screening and injury assessment.
X-ALT-DESC;FMTTYPE=text/html:<strong><span style="font-size:18px">A season to be Thankful and a time for good health!&nbsp\; Please join Dr. Michael Horowitz\, Hand Surgeon and Mollie Sherman\, Occupational Therapist for a free hand screening and injury assessment.&nbsp\;&nbsp\;</span></strong>
LOCATION:177 North Dean Street - Suite 301 Englewood\, NJ 201-510-3777
UID:e.2515.227
SEQUENCE:3
DTSTAMP:20260422T075349Z
URL:https://business.englewoodnjchamber.com/events/details/free-hand-screening-with-dr-michael-horowitz-hand-surgeon-from-the-center-for-musculoskeletal-disorders-and-professional-physical-therapy-227
END:VEVENT

END:VCALENDAR
