BEGIN:VCALENDAR
VERSION:2.0
PRODID:-//ChamberMaster//Event Calendar 2.0//EN
METHOD:PUBLISH
X-PUBLISHED-TTL:P3D
REFRESH-INTERVAL:P3D
CALSCALE:GREGORIAN
BEGIN:VEVENT
DTSTART:20180929T160000Z
DTEND:20180929T180000Z
X-MICROSOFT-CDO-ALLDAYEVENT:FALSE
SUMMARY:Englewood Veterinary Free Dog Microchipping Event
DESCRIPTION:Please join on us for a Free Microchip Implantation Event.at Englewood Veterinary Center on September 29th from 12pm - 2pm at 24 S. Van Brunt Street in Englewood.\n\n\n\nDid you know that 1 in 3 pets will go missing at some point in their lives? We want to make sure your furry friends are always able to find their ways back home.\n\n\n\nFree on-site microchipping for 50 pets (First come\, first served. (Dogs only). \n\n\n\nWe will be implanting pets with the HomeAgain  Pet Recovery Service\, an advanced pet identification and retrieval system. Microchipping fee of $24.99 is waived during this event. There is only the "Home Again" microchip registration fee of $21.99. Please allow time to fill out paper work. We are very excited and waiting to see you all.
X-ALT-DESC;FMTTYPE=text/html:Please join on us for a&nbsp\;<strong>Free Microchip Implantation Event</strong>.<strong>at</strong> <strong>Englewood Veterinary Center</strong>&nbsp\;on September 29th from 12pm - 2pm at&nbsp\;24 S. Van Brunt Street in Englewood.<br />\n<br />\nDid you know that 1 in 3 pets will go missing at some point in their lives? We want to make sure your furry friends are always able to find their ways back home.<br />\n<br />\n<strong>Free on-site microchipping for 50 pets (First come\, first served. (Dogs only). </strong><br />\n<br />\nWe will be implanting pets with the <strong>HomeAgain&reg\; Pet Recovery Service\,</strong> an advanced pet identification and retrieval system. <strong>Microchipping fee of $24.99 is waived during this event.</strong> There is only the &quot\;Home Again&quot\; microchip registration fee of $21.99. Please allow time to fill out paper work. We are very excited and waiting to see you all.
LOCATION:25 S. Van Brunt Street
UID:e.2515.341
SEQUENCE:3
DTSTAMP:20260421T165241Z
URL:https://business.englewoodnjchamber.com/events/details/englewood-veterinary-free-dog-microchipping-event-341
END:VEVENT

END:VCALENDAR
