BEGIN:VCALENDAR
VERSION:2.0
PRODID:-//ChamberMaster//Event Calendar 2.0//EN
METHOD:PUBLISH
X-PUBLISHED-TTL:P3D
REFRESH-INTERVAL:P3D
CALSCALE:GREGORIAN
BEGIN:VEVENT
DTSTART:20180726T140000Z
DTEND:20180729T010000Z
X-MICROSOFT-CDO-ALLDAYEVENT:FALSE
SUMMARY:Englewood Summer-Fest & Sidewalk Sale!
DESCRIPTION:ENGLEWOOD\, NJ\n\nSUMMER FEST\, SIDEWALK SALE & KIDS ZONE!\n\n\n\nSUMMER FEST OPENING NIGHT\n\nTHURSDAY\, JULY 26\, 5PM   9PM\n\n(Rain Date Friday\, July 27)\n \n\nEnjoy shopping and food from local restaurants and retailers with fun activities and live entertainment all night long!\n\nActivities & Entertainment Lineup On and Off the Stage:\n\nMC's\, live music\, entertainers\, dancers\, fashion show and more!\n\nPerformances from local music & arts schools.\n\nGroup dance lessons.\n\nDJ's Spinning Party Music\n\nRestaurants / Food Stands\n\nRetailers open until 9pm\n\nFood Trucks if needed\n\nArt Exhibits and Artists\n\nFace Painting and Other Family Activities\n\n\nSIDEWALK SALE DAYS\n\nJULY 26 - 28\, 10AM - 6PM\n\nDowntown Englewood will be transformed into the ultimate shopping destination as over 80 participating stores\, non-profits\, and restaurants take part in the Englewood Summer-Fest & Sidewalk Sale.\n\n \n\nEnjoy special savings and opportunities while enjoying terrific weather. Participating stores will have racks and tables with merchandise on the sidewalk. Types of merchandise include fabulous men's\, women's and children's apparel\, shoes\, jewelry\, art\, hair products\, makeup\, accessories and much more. This a great opportunity to invite family and friends to explore the City of Englewood.\n\nDaytime Activities:\n\n\nKids Zone in Veterans Park on Saturday \n\nArt Exhibit and Artists\n\nClothing Stores & Retailers\n\nCultural Activities   Library \n\nFace Painting and Other Family Activities\n\nRestaurants\n\nHealth Pavilion\n\nMakeup Sessions\n\nAnd more!\n\n\n\nKIDS ZONE\n\nSATURDAY\, JULY 28\, 10AM   6PM\n\nOn Saturday\, Veteran's Park will be turned into a Kids Zone with plenty of activities and experiences for kids of all ages. \n\nSome of the great ideas we have for the Kids Zone include:\n\nBounce Houses\n\nFace Painting\n\nBalloon Shapers\n\nCupcake Decoration\n\nArts & Crafts\n\nMusic-making with local musicians\n\nSpin art\n\nSmall Carnival-style games\, and more!
X-ALT-DESC;FMTTYPE=text/html:<p style="text-align: center\;">&nbsp\;</p>\n\n<p style="text-align: center\;"><strong><span style="font-family:helvetica\,sans-serif\;"><span style="font-size:12.0pt\;"><span style="color:#FF0000\;"><span style="font-size:20px\;"><em>ENGLEWOOD\, NJ<br />\nSUMMER FEST\,&nbsp\;SIDEWALK SALE &amp\; KIDS ZONE!</em><br />\n<br />\nSUMMER FEST OPENING NIGHT</span></span><br />\nTHURSDAY\, JULY 26\, 5PM &ndash\; 9PM</span></span></strong><br />\n<strong><span style="font-family:helvetica\,sans-serif\;"><span style="font-size:12.0pt\;">(Rain Date Friday\, July 27)</span></span></strong></p>\n&nbsp\;\n\n<div style="text-align: center\;"><strong><span style="font-family:helvetica\,sans-serif\;"><span style="font-size:12.0pt\;">Enjoy shopping and food from local restaurants and retailers with fun activities and live entertainment all night long!<br />\nActivities &amp\; Entertainment Lineup On and Off the Stage:</span></span></strong>\n\n<div style="margin-bottom: 0.0001pt\;"><span style="font-family:helvetica\,sans-serif\;"><span style="font-size:12.0pt\;">MC&rsquo\;s\, live music\, entertainers\, dancers\, fashion show and more!</span></span></div>\n\n<div style="margin-bottom: 0.0001pt\;"><span style="font-family:helvetica\,sans-serif\;"><span style="font-size:12.0pt\;">Performances from local music &amp\; arts schools.</span></span></div>\n\n<div style="margin-bottom: 0.0001pt\;"><span style="font-family:helvetica\,sans-serif\;"><span style="font-size:12.0pt\;">Group dance lessons.</span></span></div>\n\n<div><span style="font-family:helvetica\,sans-serif\;"><span style="font-size:12.0pt\;">DJ&rsquo\;s Spinning Party Music</span></span></div>\n\n<div><span style="font-family:helvetica\,sans-serif\;"><span style="font-size:12.0pt\;">Restaurants / Food Stands</span></span></div>\n\n<div><span style="font-family:helvetica\,sans-serif\;"><span style="font-size:12.0pt\;">Retailers open until 9pm</span></span></div>\n\n<div style="margin-bottom: 0.0001pt\;"><span style="font-family:helvetica\,sans-serif\;"><span style="font-size:12.0pt\;">Food Trucks if needed</span></span></div>\n\n<div style="margin-bottom: 0.0001pt\;"><span style="font-family:helvetica\,sans-serif\;"><span style="font-size:12.0pt\;">Art Exhibits and Artists</span></span></div>\n\n<div><span style="font-family:helvetica\,sans-serif\;"><span style="font-size:12.0pt\;">Face Painting and Other Family Activities</span></span></div>\n<br />\n<strong><span style="font-family:helvetica\,sans-serif\;"><span style="font-size:12.0pt\;"><span style="color:#FF0000\;"><span style="font-size:20px\;">SIDEWALK SALE DAYS</span></span><br />\nJULY 26 - 28\, 10AM - 6PM</span></span></strong><br />\n<strong><span style="font-family:helvetica\,sans-serif\;"><span style="font-size:12.0pt\;">Downtown Englewood will be transformed into the ultimate shopping destination as over 80 participating stores\, non-profits\, and restaurants take part in the <em>Englewood Summer-Fest &amp\; Sidewalk Sale</em>.</span></span></strong><br />\n&nbsp\;</div>\n\n<div><span style="font-family:helvetica\,sans-serif\;"><span style="font-size:12.0pt\;">Enjoy special savings and opportunities while enjoying terrific weather. Participating stores will have racks and tables with merchandise on the sidewalk. Types of merchandise include fabulous men&rsquo\;s\, women&rsquo\;s and children&rsquo\;s apparel\, shoes\, jewelry\, art\, hair products\, makeup\, accessories and much more. This a great opportunity to invite family and friends to explore the City of Englewood.</span></span></div>\n\n<div style="text-align: center\;"><u><strong><span style="font-size:18px\;">Daytime Activities:</span></strong></u></div>\n\n<div>\n<div style="text-align: center\;"><span style="font-family:helvetica\,sans-serif\;"><span style="font-size:12.0pt\;">Kids Zone in Veterans Park on Saturday&nbsp\;</span></span><br />\n<span style="font-family:helvetica\,sans-serif\;"><span style="font-size:12.0pt\;"><span style="font-family:helvetica\,sans-serif\;"><span style="font-size:12.0pt\;">Art Exhibit and Artists</span></span></span></span><br />\n<span style="font-family:helvetica\,sans-serif\;"><span style="font-size:12.0pt\;"><span style="font-family:helvetica\,sans-serif\;"><span style="font-size:12.0pt\;"><span style="font-family:helvetica\,sans-serif\;"><span style="font-size:12.0pt\;">Clothing Stores &amp\; Retailers</span></span></span></span></span></span><br />\n<span style="font-family:helvetica\,sans-serif\;"><span style="font-size:12.0pt\;"><span style="font-family:helvetica\,sans-serif\;"><span style="font-size:12.0pt\;"><span style="font-family:helvetica\,sans-serif\;"><span style="font-size:12.0pt\;"><span style="font-family:helvetica\,sans-serif\;"><span style="font-size:12.0pt\;">Cultural Activities &ndash\; Library </span></span></span></span></span></span></span></span><br />\n<span style="font-family:helvetica\,sans-serif\;"><span style="font-size:12.0pt\;"><span style="font-family:helvetica\,sans-serif\;"><span style="font-size:12.0pt\;"><span style="font-family:helvetica\,sans-serif\;"><span style="font-size:12.0pt\;"><span style="font-family:helvetica\,sans-serif\;"><span style="font-size:12.0pt\;"><span style="font-family:helvetica\,sans-serif\;"><span style="font-size:12.0pt\;">Face Painting and Other Family Activities</span></span></span></span></span></span></span></span></span></span><br />\n<span style="font-family:helvetica\,sans-serif\;"><span style="font-size:12.0pt\;">Restaurants</span></span><br />\n<span style="font-family:helvetica\,sans-serif\;"><span style="font-size:12.0pt\;">Health Pavilion</span></span><br />\n<span style="font-family:helvetica\,sans-serif\;"><span style="font-size:12.0pt\;">Makeup Sessions</span></span><br />\n<span style="font-family:helvetica\,sans-serif\;"><span style="font-size:12.0pt\;">And more!</span></span></div>\n\n<div style="text-align: center\;"><br />\n<strong><span style="font-family:helvetica\,sans-serif\;"><span style="font-size:12.0pt\;"><span style="color:#FF0000\;"><span style="font-size:20px\;">KIDS ZONE</span></span><br />\nSATURDAY\, JULY 28\, 10AM &ndash\; 6PM</span></span></strong><br />\n<strong><span style="font-family:helvetica\,sans-serif\;"><span style="font-size:12.0pt\;">On Saturday\, Veteran&rsquo\;s Park will be turned into a Kids Zone with plenty of activities and experiences for kids of all ages.&nbsp\;<br />\nSome of the great ideas we have for the Kids Zone include:</span></span></strong></div>\n\n<div style="text-align: center\;"><span style="font-family:helvetica\,sans-serif\;"><span style="font-size:12.0pt\;">Bounce Houses</span></span><br />\n<span style="font-family:helvetica\,sans-serif\;"><span style="font-size:12.0pt\;">Face Painting</span></span><br />\n<span style="font-family:helvetica\,sans-serif\;"><span style="font-size:12.0pt\;">Balloon Shapers</span></span><br />\n<span style="font-family:helvetica\,sans-serif\;"><span style="font-size:12.0pt\;">Cupcake Decoration</span></span><br />\n<span style="font-family:helvetica\,sans-serif\;"><span style="font-size:12.0pt\;">Arts &amp\; Crafts</span></span><br />\n<span style="font-family:helvetica\,sans-serif\;"><span style="font-size:12.0pt\;">Music-making with local musicians</span></span><br />\n<span style="font-family:helvetica\,sans-serif\;"><span style="font-size:12.0pt\;">Spin art</span></span><br />\n<span style="font-family:helvetica\,sans-serif\;"><span style="font-size:12.0pt\;">Small Carnival-style games\, and more!</span></span></div>\n</div>\n
LOCATION:East Palisade Avenue and a Portion of West Palisade Avenue
UID:e.2515.320
SEQUENCE:3
DTSTAMP:20260421T210530Z
URL:https://business.englewoodnjchamber.com/events/details/englewood-summer-fest-sidewalk-sale-320
END:VEVENT

END:VCALENDAR
