BEGIN:VCALENDAR
VERSION:2.0
PRODID:-//ChamberMaster//Event Calendar 2.0//EN
METHOD:PUBLISH
X-PUBLISHED-TTL:P3D
REFRESH-INTERVAL:P3D
CALSCALE:GREGORIAN
BEGIN:VEVENT
DTSTART:20171019T210000Z
DTEND:20171020T000000Z
X-MICROSOFT-CDO-ALLDAYEVENT:FALSE
SUMMARY:Diamonds & Chocolates Two Year Anniversary!
DESCRIPTION:Join us for our anniversary event to celebrate our 2 years in business! An evening of diamonds and chocolate! There'll be gifts galore and prizes too\, we'd love for your friends to come along with you!\n\n\n\nWe'll have sweet deals and tasty treats\, with savings of up to 60% off\, that simply can't be beat!\n\n\n\nEnter to win a $500 shopping spree or one of five $50 gift cards!\n\n\n\n*must be present to win and over 18 years of age.
X-ALT-DESC;FMTTYPE=text/html:<span style="font-size: 18px\;">Join us for our anniversary event to celebrate our 2 years in business! An evening of diamonds and chocolate! There&#39\;ll be gifts galore and prizes too\, we&#39\;d love for your friends to come along with you!</span><br style="font-size: 18px\;" />\n<br style="font-size: 18px\;" />\n<span style="font-size: 18px\;">We&#39\;ll have sweet deals and tasty treats\, with savings of up to 60% off\, that simply can&#39\;t be beat!</span><br style="font-size: 18px\;" />\n<br style="font-size: 18px\;" />\n<span style="font-size: 18px\;">Enter to win a $500 shopping spree or one of five $50 gift cards!</span><br style="font-size: 18px\;" />\n<br style="font-size: 18px\;" />\n<span style="font-size: 18px\;">*must be present to win and over 18 years of age.</span>
LOCATION:Englewood Jewelers by Greg B 37 East Palisade Avenue Englewood\, NJ\, 07631
UID:e.2515.139
SEQUENCE:3
DTSTAMP:20260422T085734Z
URL:https://business.englewoodnjchamber.com/events/details/diamonds-chocolates-two-year-anniversary-139
END:VEVENT

END:VCALENDAR
