BEGIN:VCALENDAR
VERSION:2.0
PRODID:-//ChamberMaster//Event Calendar 2.0//EN
METHOD:PUBLISH
X-PUBLISHED-TTL:P3D
REFRESH-INTERVAL:P3D
CALSCALE:GREGORIAN
BEGIN:VEVENT
DTSTART:20181202T170000Z
DTEND:20181202T220000Z
X-MICROSOFT-CDO-ALLDAYEVENT:FALSE
SUMMARY:Customer Appreciation Day
DESCRIPTION:Join us for Customer Appreciation Day at Serenity Skin Care!\n\nHord d'oeuvres\, Cocktails\, Free Raffle\, Music\, Meet & Greet!
X-ALT-DESC;FMTTYPE=text/html:<div style="text-align: center\;"><span style="color:#800080\;"><span style="font-size:18px\;"><strong>Join us for Customer Appreciation Day at Serenity Skin Care!<br />\nHord d&#39\;oeuvres\, Cocktails\, Free Raffle\, Music\, Meet &amp\; Greet!</strong></span></span></div>\n
LOCATION:Serenity Skin Care 7 Grand Avenue Englewood\, NJ 07631
UID:e.2515.372
SEQUENCE:3
DTSTAMP:20260421T133444Z
URL:https://business.englewoodnjchamber.com/events/details/customer-appreciation-day-372
END:VEVENT

END:VCALENDAR
