BEGIN:VCALENDAR
VERSION:2.0
PRODID:-//ChamberMaster//Event Calendar 2.0//EN
METHOD:PUBLISH
X-PUBLISHED-TTL:P3D
REFRESH-INTERVAL:P3D
CALSCALE:GREGORIAN
BEGIN:VEVENT
DTSTART:20180321T123000Z
DTEND:20180321T133000Z
X-MICROSOFT-CDO-ALLDAYEVENT:FALSE
SUMMARY:Coffee Chat with Head of School
DESCRIPTION:Great things happen over coffee\, and this cup is on us!\n\n\n\nJoin our Head of School\, Gavin Daly\, for a cup of joe on campus and learn more about Fusion's revolutionary one-to-one education. \n\n\n\n?This is a great opportunity to ask questions and find out\n\nif Fusion is the right fit for your child.
X-ALT-DESC;FMTTYPE=text/html:<p style="text-align: center\;"><span style="color:rgb(51\, 51\, 51)\; font-family:arial\,sans-serif\; font-size:11.5pt">Great things happen over coffee\, and this cup is on us!</span><br />\n<br />\n<span style="color:rgb(51\, 51\, 51)\; font-family:arial\,sans-serif\; font-size:11.5pt">Join our Head of School\, Gavin Daly\, for a cup of joe on campus and learn more&nbsp\;about Fusion&#39\;s revolutionary one-to-one education.&nbsp\;</span><br />\n<br />\n<span style="color:rgb(51\, 51\, 51)\; font-family:arial\,sans-serif\; font-size:11.5pt">?This is a great opportunity to ask&nbsp\;questions and find out<br />\nif Fusion is the right fit for your child.</span></p>\n
LOCATION:Fusion Academy Englewood Campus 10 Sterling Blvd Suite 201 Englewood\, NJ 07631
UID:e.2515.251
SEQUENCE:3
DTSTAMP:20260422T021612Z
URL:https://business.englewoodnjchamber.com/events/details/coffee-chat-with-head-of-school-251
END:VEVENT

END:VCALENDAR
