BEGIN:VCALENDAR
VERSION:2.0
PRODID:-//ChamberMaster//Event Calendar 2.0//EN
METHOD:PUBLISH
X-PUBLISHED-TTL:P3D
REFRESH-INTERVAL:P3D
CALSCALE:GREGORIAN
BEGIN:VEVENT
DTSTART:20171214T013000Z
DTEND:20171214T023000Z
X-MICROSOFT-CDO-ALLDAYEVENT:FALSE
SUMMARY:Coffee Chat at Fusion Academy
DESCRIPTION:Fusion Englewood \n\nInvites You to Attend Our\n\nCoffee Chat\n\n \n\nGreat things happen over coffee\, and this cup is on us.\n\n\n\nJoin our Head of School\, Gavin Daly\, for a cup of joe on campus and learn more about Fusion's revolutionary one-to-one education. \n\n\n\n This is a great opportunity to ask questions and find out\n\nif Fusion is the right fit for your child.\n\n \n\nJoin Us\n\nWednesday\, December 13th\n\n8:30am - 9:30am\n\nat the\n\nFusion Englewood Campus\n\n10 Sterling Blvd\n\nSuite 201\n\nEnglewood\, NJ 07631\n\n\n\nRSVP Appreciated\n\nHelp us know how much coffee to brew.\n\nClick here to let us know you'll be joining us.
X-ALT-DESC;FMTTYPE=text/html:<div style="text-align: center\;"><br />\n<span style="font-size:14px\;"><strong><span style="font-size:22px\;"><span style="color:#800080\;"><span style="font-family:trebuchet ms\,sans-serif\;">Fusion Englewood</span></span></span><span style="color:#666666\;"><span style="font-family:trebuchet ms\,sans-serif\;"><span style="font-size:22px\;">&nbsp\;</span><br />\nInvites You to Attend Our</span></span></strong></span><br />\n<strong><span style="color:#999933\;"><span style="font-family:arial\,sans-serif\;"><span style="font-size:16.0pt\;">Coffee Chat</span></span></span></strong><br />\n&nbsp\;<br />\n<span style="color:#505050\;"><span style="font-family:helvetica\,sans-serif\;"><span style="font-size:11.5pt\;">Great things happen over coffee\, and this cup is on us.</span></span></span><br />\n<br />\n<span style="color:#505050\;"><span style="font-family:helvetica\,sans-serif\;"><span style="font-size:11.5pt\;">Join our Head of School\, Gavin Daly\, for a cup of joe on campus and learn more&nbsp\;about Fusion&#39\;s revolutionary one-to-one education.&nbsp\;</span></span></span><br />\n<br />\n<span style="color:#505050\;"><span style="font-family:helvetica\,sans-serif\;"><span style="font-size:11.5pt\;">&#8203\;This is a great opportunity to ask&nbsp\;questions and find out<br />\nif Fusion is the right fit for your child.</span></span></span><br />\n&nbsp\;<br />\n<strong><span style="color:#666666\;"><span style="font-family:arial\,sans-serif\;"><span style="font-size:13.5pt\;">Join Us</span></span></span></strong><br />\n<strong><span style="color:#E8801E\;"><span style="font-family:arial\,sans-serif\;"><span style="font-size:16.0pt\;">Wednesday\,&nbsp\;December 13th</span></span></span></strong><br />\n<strong><span style="color:#E8801E\;"><span style="font-family:arial\,sans-serif\;"><span style="font-size:11.5pt\;">8:30am - 9:30am</span></span></span></strong><br />\n<span style="font-family:arial\,sans-serif\;"><span style="font-size:11.5pt\;">at the</span></span><br />\n<span style="color:#505050\;"><span style="font-family:helvetica\,sans-serif\;"><span style="font-size:11.5pt\;">Fusion Englewood Campus<br />\n10 Sterling Blvd<br />\nSuite 201<br />\nEnglewood\, NJ 07631</span></span></span><br />\n<br />\n<strong><span style="color:#666666\;"><span style="font-family:arial\,sans-serif\;"><span style="font-size:13.5pt\;">RSVP Appreciated</span></span></span></strong><br />\n<span style="font-family:arial\,sans-serif\;"><span style="font-size:11.5pt\;">Help us know how much coffee to brew.<br />\n<span style="font-size:20px\;"><strong><a href="https://goo.gl/zmG2dv">Click here to let us know you&#39\;ll be joining us</a></strong></span>.</span></span></div>\n
LOCATION:Fusion Englewood Campus 10 Sterling Blvd\, Suite 201 Englewood\, NJ 07631
UID:e.2515.229
SEQUENCE:3
DTSTAMP:20260422T061745Z
URL:https://business.englewoodnjchamber.com/events/details/coffee-chat-at-fusion-academy-229
END:VEVENT

END:VCALENDAR
