BEGIN:VCALENDAR
VERSION:2.0
PRODID:-//ChamberMaster//Event Calendar 2.0//EN
METHOD:PUBLISH
X-PUBLISHED-TTL:P3D
REFRESH-INTERVAL:P3D
CALSCALE:GREGORIAN
BEGIN:VEVENT
DTSTART:20180425T230000Z
DTEND:20180426T010000Z
X-MICROSOFT-CDO-ALLDAYEVENT:FALSE
SUMMARY:Candy Rush Englewood Grand Opening!
DESCRIPTION:Grand Opening & Ribbon Cutting\n\nCANDY RUSH\n\nWednesday\, April 25\, 2018 @ 7pm\n\n \n\nYou are invited to celebrate the Grand Opening and Ribbon Cutting at Candy Rush\, specializing in Scandinavian candy\, sweets\, and treats! \n\n\n\nScandinavian candy is Non-GMO\, No High-Fructose Corn Syrup\, No Trans Fats\, and All Natural Colors.\n\n\n\nPick n' Mix by the Pound\n\nFill your Pick n' Mix goodie bag with your favorite candy and chocolate.\n\nVegan and gelatin free candy also available.  Order online at www.candyrush.shop\n\n\n\n201-431-9228\n\nwww.candyrush.shop
X-ALT-DESC;FMTTYPE=text/html:<div style="text-align: center\;"><span style="font-size:18px\;"><span style="color:#696969\;"><strong><span style="font-size:24px\;">Grand Opening &amp\; Ribbon Cutting</span></strong></span><br />\n<span style="font-size:26px\;"><em><span style="color:#FF0000\;"><strong>CANDY RUSH</strong></span></em></span><br />\n<span style="color:#696969\;"><strong><span style="font-size:24px\;">Wednesday\, April&nbsp\;25\, 2018 @ 7pm</span></strong></span><br />\n&#8203\;<br />\n<span style="font-size:20px\;">You are invited to celebrate the <em><span style="color:#FF0000\;">Grand Opening and Ribbon Cutting at Candy Rush</span></em>\, specializing in Scandinavian candy\, sweets\,&nbsp\;and treats!&nbsp\;<br />\n<br />\n<span style="color:#FF0000\;"><strong>Scandinavian candy is <u>Non-GMO</u>\, <u>No High-Fructose Corn Syrup</u>\, <u>No Trans Fats</u>\,&nbsp\;and <u>All Natural Colors</u>.</strong></span><br />\n<br />\n<u><strong>Pick n&#39\; Mix by the Pound</strong></u><br />\nFill your Pick n&#39\; Mix goodie bag with your favorite candy and chocolate.<br />\nVegan and gelatin free candy also available.&nbsp\; Order online at <a href="http://www.candyrush.shop">www.candyrush.shop</a></span></span><br />\n<br />\n<span style="font-size:20px\;">201-431-9228<br />\n<a href="http://www.candyrush.shop">www.candyrush.shop</a></span></div>\n
LOCATION:7A East Palisade Avenue\, Englewood\, NJ 07631
UID:e.2515.286
SEQUENCE:3
DTSTAMP:20260422T002351Z
URL:https://business.englewoodnjchamber.com/events/details/candy-rush-englewood-grand-opening-286
END:VEVENT

END:VCALENDAR
