BEGIN:VCALENDAR
VERSION:2.0
PRODID:-//ChamberMaster//Event Calendar 2.0//EN
METHOD:PUBLISH
X-PUBLISHED-TTL:P3D
REFRESH-INTERVAL:P3D
CALSCALE:GREGORIAN
BEGIN:VEVENT
DTSTART:20180410T223000Z
DTEND:20180411T000000Z
X-MICROSOFT-CDO-ALLDAYEVENT:FALSE
SUMMARY:Alzheimer’s 101 at Englewood Hospital & Medical Center
DESCRIPTION:This program provides a comprehensive overview for anyone who wants to learn about memory loss\, Alzheimer's disease\, and other forms of dementia. This presentation is designed for caregivers and attendance is not recommended for persons with dementia.
X-ALT-DESC;FMTTYPE=text/html:<div style="text-align: center\;"><br />\n<span style="color: rgb(116\, 116\, 116)\; font-family: &quot\;Open Sans&quot\;\, Arial\, Helvetica\, sans-serif\; font-size: 18px\;">This program provides a comprehensive overview for anyone who wants to learn about memory loss\, Alzheimer&rsquo\;s disease\, and other forms of dementia. This presentation is designed for caregivers and attendance is not recommended for persons with dementia.</span></div>\n
LOCATION:Englewood Hospital and Medical Center 350 Engle Street Englewood\, NJ 07631
UID:e.2515.247
SEQUENCE:3
DTSTAMP:20260422T022027Z
URL:https://business.englewoodnjchamber.com/events/details/alzheimer-s-101-at-englewood-hospital-medical-center-247
END:VEVENT

END:VCALENDAR
