BEGIN:VCALENDAR
VERSION:2.0
PRODID:-//ChamberMaster//Event Calendar 2.0//EN
METHOD:PUBLISH
X-PUBLISHED-TTL:P3D
REFRESH-INTERVAL:P3D
CALSCALE:GREGORIAN
BEGIN:VEVENT
DTSTART;VALUE=DATE:20180513
DTEND;VALUE=DATE:20180514
TRANSP:TRANSPARENT
X-MICROSOFT-CDO-ALLDAYEVENT:TRUE
SUMMARY:37th Annual Rubin Run for Special Needs
DESCRIPTION:Welcome to the Kaplen JCC on the Palisades' 37th Annual Rubin Run with a NEW 8K TRAIL RUN!  We are excited that you will join us as a runner\, fundraiser or team participant.  \n\n\n\nBecome a Fundraiser or form a Team to help raise funds for special needs programming. We encourage everyone to set a fundraising goal and invite your family and friends to train\, sponsor and join you on May 13th.\n\n \nClick HERE to Sign Up or Donate!
X-ALT-DESC;FMTTYPE=text/html:<br />\n<span font-size:="" open="" style="color: rgb(153\, 51\, 153)\; font-family: ">Welcome to the Kaplen JCC on the Palisades&rsquo\;&nbsp\;37th Annual Rubin Run with a&nbsp\;</span><strong font-size:="" open="" style="color: rgb(153\, 51\, 153)\; font-family: ">NEW&nbsp\;8K TRAIL RUN</strong><span font-size:="" open="" style="color: rgb(153\, 51\, 153)\; font-family: ">! &nbsp\;We are excited that you will join us as a runner\, fundraiser or team participant. &nbsp\;</span><br font-size:="" open="" style="color: rgb(153\, 51\, 153)\; font-family: " />\n<br />\n<span font-size:="" open="" style="color: rgb(153\, 51\, 153)\; font-family: ">Become a&nbsp\;</span><strong font-size:="" open="" style="color: rgb(153\, 51\, 153)\; font-family: ">Fundraiser</strong><span font-size:="" open="" style="color: rgb(153\, 51\, 153)\; font-family: ">&nbsp\;or&nbsp\;</span><strong font-size:="" open="" style="color: rgb(153\, 51\, 153)\; font-family: ">form a Team</strong><span font-size:="" open="" style="color: rgb(153\, 51\, 153)\; font-family: ">&nbsp\;to help raise funds for special needs programming. We encourage everyone to set a fundraising goal and invite your family and friends to train\, sponsor and join you on May 13th.</span><br />\n&nbsp\;\n<div style="text-align: center\;"><a href="http://www.jccotp.org/rubinrun"><span style="font-size:22px\;"><span font-size:="" open="" style="color: rgb(153\, 51\, 153)\; font-family: "><strong>Click&nbsp\;HERE to </strong></span></span><span font-size:="" open="" style="color: rgb(153\, 51\, 153)\; font-family: "><strong><span style="font-size:22px\;">Sign</span></strong></span><span style="font-size:22px\;"><span font-size:="" open="" style="color: rgb(153\, 51\, 153)\; font-family: "><strong> Up or Donate!</strong></span></span></a></div>\n
LOCATION:411 E Clinton Avenue Tenafly\, NJ 07670
UID:e.2515.289
SEQUENCE:3
DTSTAMP:20260421T224957Z
URL:https://business.englewoodnjchamber.com/events/details/37th-annual-rubin-run-for-special-needs-289
END:VEVENT

END:VCALENDAR
